BEGIN:VCALENDAR
PRODID:-//K Desktop Environment//NONSGML libkcal 3.5//EN
VERSION:1.0
BEGIN:VEVENT
DTSTART:20080925T120000Z
DTEND:20080926T100000Z
DCREATED:20071209T193337Z
UID:libkcal-301203691.490
SEQUENCE:3
LAST-MODIFIED:20071209T193420Z
X-ORGANIZER:MAILTO:anton@mips.complang.tuwien.ac.at
SUMMARY:EuroForth 2008: Forth200x meeting
CLASS:PUBLIC
PRIORITY:0
TRANSP:0
END:VEVENT

BEGIN:VEVENT
DTSTART:20080812T000000
DCREATED:20071209T193515Z
UID:libkcal-1881704749.684
SEQUENCE:0
LAST-MODIFIED:20071209T193515Z
X-ORGANIZER:MAILTO:anton@mips.complang.tuwien.ac.at
SUMMARY:EuroForth 2008: Notification of acceptance of academic stream papers
CLASS:PUBLIC
PRIORITY:0
TRANSP:0
END:VEVENT

BEGIN:VEVENT
DTSTART:20080819T000000
DCREATED:20071209T193508Z
UID:libkcal-1085805335.850
SEQUENCE:0
LAST-MODIFIED:20071209T193508Z
X-ORGANIZER:MAILTO:anton@mips.complang.tuwien.ac.at
SUMMARY:EuroForth 2008: Registration deadline
CLASS:PUBLIC
PRIORITY:0
TRANSP:0
END:VEVENT

BEGIN:VEVENT
DTSTART:20080915T000000
DCREATED:20071209T193501Z
UID:libkcal-1014300411.360
SEQUENCE:0
LAST-MODIFIED:20071209T193501Z
X-ORGANIZER:MAILTO:anton@mips.complang.tuwien.ac.at
SUMMARY:EuroForth 2008: Deadline for camera-ready paper submission (academic and industrial stream)
CLASS:PUBLIC
PRIORITY:0
TRANSP:0
END:VEVENT

BEGIN:VEVENT
DTSTART:20080926T120000Z
DTEND:20080928T100000Z
DCREATED:20071209T193451Z
UID:libkcal-1423749152.308
SEQUENCE:0
LAST-MODIFIED:20071209T193451Z
X-ORGANIZER:MAILTO:anton@mips.complang.tuwien.ac.at
SUMMARY:EuroForth 2008
CLASS:PUBLIC
PRIORITY:0
TRANSP:0
END:VEVENT

BEGIN:VEVENT
DTSTART:20080627T000000
DCREATED:20071209T193524Z
UID:libkcal-1586683534.379
SEQUENCE:0
LAST-MODIFIED:20071209T193524Z
X-ORGANIZER:MAILTO:anton@mips.complang.tuwien.ac.at
SUMMARY:EuroForth 2008: Deadline for draft papers (academic stream)
CLASS:PUBLIC
PRIORITY:0
TRANSP:0
END:VEVENT

END:VCALENDAR

