BEGIN:VCALENDAR
PRODID:-//K Desktop Environment//NONSGML libkcal 3.5//EN
VERSION:2.0
BEGIN:VEVENT
DTSTAMP:20071209T193611Z
ORGANIZER;CN=Anton Ertl:MAILTO:anton@mips.complang.tuwien.ac.at
CREATED:20071209T193337Z
UID:libkcal-301203691.490
SEQUENCE:3
LAST-MODIFIED:20071209T193420Z
SUMMARY:EuroForth 2008: Forth200x meeting
DTSTART:20080925T120000Z
DTEND:20080926T100000Z
TRANSP:OPAQUE
END:VEVENT

BEGIN:VEVENT
DTSTAMP:20071209T193611Z
ORGANIZER;CN=Anton Ertl:MAILTO:anton@mips.complang.tuwien.ac.at
CREATED:20071209T193515Z
UID:libkcal-1881704749.684
LAST-MODIFIED:20071209T193515Z
SUMMARY:EuroForth 2008: Notification of acceptance of academic stream 
 papers
DTSTART;VALUE=DATE:20080812
DTEND;VALUE=DATE:20080813
TRANSP:OPAQUE
END:VEVENT

BEGIN:VEVENT
DTSTAMP:20071209T193611Z
ORGANIZER;CN=Anton Ertl:MAILTO:anton@mips.complang.tuwien.ac.at
CREATED:20071209T193508Z
UID:libkcal-1085805335.850
LAST-MODIFIED:20071209T193508Z
SUMMARY:EuroForth 2008: Registration deadline
DTSTART;VALUE=DATE:20080819
DTEND;VALUE=DATE:20080820
TRANSP:OPAQUE
END:VEVENT

BEGIN:VEVENT
DTSTAMP:20071209T193611Z
ORGANIZER;CN=Anton Ertl:MAILTO:anton@mips.complang.tuwien.ac.at
CREATED:20071209T193501Z
UID:libkcal-1014300411.360
LAST-MODIFIED:20071209T193501Z
SUMMARY:EuroForth 2008: Deadline for camera-ready paper submission 
 (academic and industrial stream)
DTSTART;VALUE=DATE:20080915
DTEND;VALUE=DATE:20080916
TRANSP:OPAQUE
END:VEVENT

BEGIN:VEVENT
DTSTAMP:20071209T193611Z
ORGANIZER;CN=Anton Ertl:MAILTO:anton@mips.complang.tuwien.ac.at
CREATED:20071209T193451Z
UID:libkcal-1423749152.308
LAST-MODIFIED:20071209T193451Z
SUMMARY:EuroForth 2008
DTSTART:20080926T120000Z
DTEND:20080928T100000Z
TRANSP:OPAQUE
END:VEVENT

BEGIN:VEVENT
DTSTAMP:20071209T193611Z
ORGANIZER;CN=Anton Ertl:MAILTO:anton@mips.complang.tuwien.ac.at
CREATED:20071209T193524Z
UID:libkcal-1586683534.379
LAST-MODIFIED:20071209T193524Z
SUMMARY:EuroForth 2008: Deadline for draft papers (academic stream)
DTSTART;VALUE=DATE:20080627
DTEND;VALUE=DATE:20080628
TRANSP:OPAQUE
END:VEVENT

END:VCALENDAR

